Workbook
Name debt_area: Debt!$A$3:$J$9
Name debt_interest: Debt!$C$3:$C$9
Name debt_maxrepayment: Debt!$D$10
Name debt_minpayment: Debt!$H$3:$H$9
Name debt_name: Debt!$A$3:$A$9
Name debt_owing: Debt!$B$3:$B$9
Name debt_payment: Debt!$D$3:$D$9
Name debt_plan_start: Debt!$A$14
Name debt_repay_summary: Debt!$A$28
Name debt_termsperyear: Debt!$F$3:$F$9
Name debt_total: Debt!$A$10:$J$10

Sheet Expense
A2: Income | B2: Monthly (net) | C2: Yearly Total (net) | D2: Monthly (Gross) | E2: Yearly Total (Gross) | F2: Tax % | H2: Expenses Summary | I2: Total | J2: Yearly Total | K2: Percent of Income
A3: Name 1 | B3: 0 | C3: =B3 * 12 -> 0 | D3: 0 | E3: =D3 *12 -> 0 | F3: =1 - B3/D3 -> #DIV/0! | H3: Fixed | I3: =B8 -> 0 | J3: =I3 * 12 -> 0 | K3: =I3/B5 -> #DIV/0!
A4: Name 2 | B4: 0 | C4: =B4 * 12 -> 0 | D4: 0 | E4: 0 | F4: =1 - B4/D4 -> #DIV/0! | H4: Variable | I4: =B30 -> 0 | J4: =I4 * 12 -> 0 | K4: =I4/B5 -> #DIV/0!
A5: Total Income | B5: =SUM(B3:B4) -> 0 | C5: =B5 * 12 -> 0 | D5: =SUM(D3:D4) -> 0 | E5: =SUM(E3:E4) -> 0 | F5: =SUM(F3:F4) -> #DIV/0! | H5: Total | I5: =SUM(I3:I4) -> 0 | J5: =I5 * 12 -> 0 | K5: =SUM(K3:K4) -> #DIV/0!
H6: Unaccounted income | I6: =B5-I5 -> 0 | J6: =I6 * 12 -> 0 | K6: =1-(K3 + K4) -> #DIV/0!
A8: Fixed Expenses (monthly) | B8: =SUM(B9:B28) -> 0 | C8: Yearly Total | D8: Percent of Expense | E8: Percent of Income | H8: Expenses Breakdown
A9: Mortgage | B9: 0 | C9: =B9 * 12 -> 0 | D9: =B9/$B$8 -> #DIV/0! | E9: =B9/$B$5 -> #DIV/0! | H9: Category | I9: Total | J9: Yearly Total | K9: Percent of Income
A10: Property Tax | B10: 0 | C10: =B10 * 12 -> 0 | D10: =B10/$B$8 -> #DIV/0! | E10: =B10/$B$5 -> #DIV/0! | H10: Housing | I10: =SUM(B9,B10,B12,B16) -> 0 | J10: =I10 * 12 -> 0 | K10: =I10/B5 -> #DIV/0!
A11: Electricity | B11: 0 | C11: =B11 * 12 -> 0 | D11: =B11/$B$8 -> #DIV/0! | E11: =B11/$B$5 -> #DIV/0! | H11: Transportation | I11: =SUM(B20,B31,B14,B13,B21) -> 0 | J11: =I11 * 12 -> 0 | K11: =I11/B5 -> #DIV/0!
A12: Condo Fee | B12: 0 | C12: =B12 * 12 -> 0 | D12: =B12/$B$8 -> #DIV/0! | E12: =B12/$B$5 -> #DIV/0! | H12: Life | I12: =SUM(B11,B13:B18,B33:B45,B54:B55,B15,B32,B49,B19) -> 0 | J12: =I12 * 12 -> 0 | K12: =I12/B5 -> #DIV/0!
A13: Car Payment | B13: 0 | C13: =B13 * 12 -> 0 | D13: =B13/$B$8 -> #DIV/0! | E13: =B13/$B$5 -> #DIV/0! | H13: Debt Repayment | I13: =SUM(B63:B66) -> 0 | J13: =I13 * 12 -> 0 | K13: =I13/B5 -> #DIV/0!
A14: Car Insurance | B14: 0 | C14: =B14 * 12 -> 0 | D14: =B14/$B$8 -> #DIV/0! | E14: =B14/$B$5 -> #DIV/0! | H14: Savings (monthly) | I14: =SUM(B46:B47) -> 0 | J14: =I14 * 12 -> 0 | K14: =I14/B5 -> #DIV/0!
A15: Life Insurance | B15: 0 | C15: =B15 * 12 -> 0 | D15: =B15/$B$8 -> #DIV/0! | E15: =B15/$B$5 -> #DIV/0! | H15: Savings (Long Term) | I15: =SUM(B17:B18,B48) -> 0 | J15: =I15 * 12 -> 0 | K15: =I15/B5 -> #DIV/0!
A16: House Insurance | B16: 0 | C16: =B16 * 12 -> 0 | D16: =B16/$B$8 -> #DIV/0! | E16: =B16/$B$5 -> #DIV/0! | H16: Total | I16: =SUM(I10:I15) -> 0 | J16: =I16 * 12 -> 0 | K16: =SUM(K10:K14) -> #DIV/0!
A17: Long Term Savings | B17: 0 | C17: =B17 * 12 -> 0 | D17: =B17/$B$8 -> #DIV/0! | E17: =B17/$B$5 -> #DIV/0!
A18: Long Term Savings | B18: 0 | C18: =B18 * 12 -> 0 | D18: =B18/$B$8 -> #DIV/0! | E18: =B18/$B$5 -> #DIV/0!
B19: 0 | C19: =B19 * 12 -> 0 | D19: =B19/$B$8 -> #DIV/0! | E19: =B19/$B$5 -> #DIV/0!
A20: Public Transportation | B20: 0 | C20: =B20 * 12 -> 0 | D20: =B20/$B$8 -> #DIV/0! | E20: =B20/$B$5 -> #DIV/0!
A21: Car Tires & Maintenence (oil change) | B21: 0 | C21: =B21 * 12 -> 0 | D21: =B21/$B$8 -> #DIV/0! | E21: =B21/$B$5 -> #DIV/0! | H21: Variable Expense Breakdown
B22: 0 | C22: =B22 * 12 -> 0 | D22: =B22/$B$8 -> #DIV/0! | E22: =B22/$B$5 -> #DIV/0! | H22: Jar | I22: Amount | J22: Yearly Total | K22: Percent of Var Exp
B23: 0 | C23: =B23 * 12 -> 0 | D23: =B23/$B$8 -> #DIV/0! | E23: =B23/$B$5 -> #DIV/0! | H23: Food&Personal Care | I23: =SUM($B$35) -> 0 | J23: =I23 * 12 -> 0 | K23: =I23/$B$30 -> #DIV/0!
B24: 0 | C24: =B24 * 12 -> 0 | D24: =B24/$B$8 -> #DIV/0! | E24: =B24/$B$5 -> #DIV/0! | H24: Entertainment | I24: =SUM($B$37,$B$41) -> 0 | J24: =I24 * 12 -> 0 | K24: =I24/$B$30 -> #DIV/0!
B25: 0 | C25: =B25 * 12 -> 0 | D25: =B25/$B$8 -> #DIV/0! | E25: =B25/$B$5 -> #DIV/0! | H25: Pets, etc. | I25: =SUM($B$42) -> 0 | J25: =I25 * 12 -> 0 | K25: =I25/$B$30 -> #DIV/0!
B26: 0 | C26: =B26 * 12 -> 0 | D26: =B26/$B$8 -> #DIV/0! | E26: =B26/$B$5 -> #DIV/0! | H26: Total | I26: =SUM(I23:I25) -> 0 | J26: =I26 * 12 -> 0 | K26: =SUM(K23:K25) -> #DIV/0!
B27: 0 | C27: =B27 * 12 -> 0 | D27: =B27/$B$8 -> #DIV/0! | E27: =B27/$B$5 -> #DIV/0!
A30: Variable Expenses (monthly) | B30: =SUM(B31:B66) -> 0 | C30: Yearly Total | D30: Percent of Expense | E30: Percent of Income | H30: Gifts
A31: Gas | B31: 0 | C31: =B31 * 12 -> 0 | D31: =B31/$B$30 -> #DIV/0! | E31: =B31/$B$5 -> #DIV/0! | H31: What/Who | I31: Yearly Amount | J31: Monthly Total | K31: Percent of Var Exp
A32: House Repairs | B32: 0 | C32: =B32 * 12 -> 0 | D32: =B32/$B$30 -> #DIV/0! | E32: =B32/$B$5 -> #DIV/0! | H32: Weddings | I32: 0 | J32: =I32 / 12 -> 0 | K32: =I32/12/$B$30 -> #DIV/0!
B33: 0 | C33: =B33 * 12 -> 0 | D33: =B33/$B$30 -> #DIV/0! | E33: =B33/$B$5 -> #DIV/0! | H33: Birthdays
B34: 0 | C34: =B34 * 12 -> 0 | D34: =B34/$B$30 -> #DIV/0! | E34: =B34/$B$5 -> #DIV/0! | H34: Birthday Name | I34: 0 | J34: =I34 / 12 -> 0 | K34: =I34/12/$B$30 -> #DIV/0!
A35: Groceries | B35: 0 | C35: =B35 * 12 -> 0 | D35: =B35/$B$30 -> #DIV/0! | E35: =B35/$B$5 -> #DIV/0! | I35: 0 | J35: =I35 / 12 -> 0 | K35: =I35/12/$B$30 -> #DIV/0!
B36: 0 | C36: =B36 * 12 -> 0 | D36: =B36/$B$30 -> #DIV/0! | E36: =B36/$B$5 -> #DIV/0! | I36: 0 | J36: =I36 / 12 -> 0 | K36: =I36/12/$B$30 -> #DIV/0!
A37: Restaurant | B37: 0 | C37: =B37 * 12 -> 0 | D37: =B37/$B$30 -> #DIV/0! | E37: =B37/$B$5 -> #DIV/0! | I37: 0 | J37: =I37 / 12 -> 0 | K37: =I37/12/$B$30 -> #DIV/0!
A38: Monthly oversight | B38: =$I$84 / 12 -> 0 | C38: =B38 * 12 -> 0 | D38: =B38/$B$30 -> #DIV/0! | E38: =B38/$B$5 -> #DIV/0! | I38: 0 | J38: =I38 / 12 -> 0 | K38: =I38/12/$B$30 -> #DIV/0!
A39: Gifts | B39: 0 | C39: =B39 * 12 -> 0 | D39: =B39/$B$30 -> #DIV/0! | E39: =B39/$B$5 -> #DIV/0! | I39: 0 | J39: =I39 / 12 -> 0 | K39: =I39/12/$B$30 -> #DIV/0!
A40: Golf | B40: 0 | C40: =B40 * 12 -> 0 | D40: =B40/$B$30 -> #DIV/0! | E40: =B40/$B$5 -> #DIV/0! | I40: 0 | J40: =I40 / 12 -> 0 | K40: =I40/12/$B$30 -> #DIV/0!
A41: Movies Nights | B41: 0 | C41: =B41 * 12 -> 0 | D41: =B41/$B$30 -> #DIV/0! | E41: =B41/$B$5 -> #DIV/0! | I41: 0 | J41: =I41 / 12 -> 0 | K41: =I41/12/$B$30 -> #DIV/0!
A42: Pet, etc. | B42: 0 | C42: =B42 * 12 -> 0 | D42: =B42/$B$30 -> #DIV/0! | E42: =B42/$B$5 -> #DIV/0! | I42: 0 | J42: =I42 / 12 -> 0 | K42: =I42/12/$B$30 -> #DIV/0!
A43: Friend Events | B43: 0 | C43: =B43 * 12 -> 0 | D43: =B43/$B$30 -> #DIV/0! | E43: =B43/$B$5 -> #DIV/0! | I43: 0 | J43: =I43 / 12 -> 0 | K43: =I43/12/$B$30 -> #DIV/0!
A44: Sports | B44: 0 | C44: =B44 * 12 -> 0 | D44: =B44/$B$30 -> #DIV/0! | E44: =B44/$B$5 -> #DIV/0! | I44: 0 | J44: =I44 / 12 -> 0 | K44: =I44/12/$B$30 -> #DIV/0!
...

Sheet Debt
A1: Debts
A2: Debt | B2: Owing (A) | C2: Interest (r) | D2: Monthly (P) | E2: Interest on Principle | F2: Compound Terms/year (n) | G2: Years To Pay (constant rate) | H2: Minimum Payment | J2: Total Interest Paid (constant rate)
A3: =Expense!$A63 -> Credit Card | B3: 0 | C3: 0.0565 | D3: =Expense!$B$63 -> 0 | E3: =B3*C3/F3 -> 0 | F3: 12 | G3: =-LOG10((1-(C3/F3*B3/D3)))/LOG10(1+C3/F3)/F3 -> #DIV/0! | H3: 0 | J3: =-1*LOG10(1-$B3*$C3/$F3/$D3)/LOG10(1+$C3/$F3)*$D3-$B3 -> #DIV/0!
A4: =Expense!$A64 -> Loan 1 | B4: 0 | C4: 0.05 | D4: =Expense!$B$64 -> 0 | E4: =B4*C4/F4 -> 0 | F4: 12 | G4: =-LOG10((1-(C4/F4*B4/D4)))/LOG10(1+C4/F4)/F4 -> #DIV/0! | H4: 0 | J4: =-1*LOG10(1-$B4*$C4/$F4/$D4)/LOG10(1+$C4/$F4)*$D4-$B4 -> #DIV/0!
A5: =Expense!$A65 -> Loan 2 | B5: 0 | C5: 0.043 | D5: =Expense!$B65 -> 0 | E5: =B5*C5/F5 -> 0 | F5: 12 | G5: =-LOG10((1-(C5/F5*B5/D5)))/LOG10(1+C5/F5)/F5 -> #DIV/0! | H5: 0 | J5: =-1*LOG10(1-$B5*$C5/$F5/$D5)/LOG10(1+$C5/$F5)*$D5-$B5 -> #DIV/0!
A6: =Expense!$A66 -> 0 | B6: 0 | C6: 0.043 | D6: =Expense!$B66 -> 0 | E6: =B6*C6/F6 -> 0 | F6: 12 | G6: =-LOG10((1-(C6/F6*B6/D6)))/LOG10(1+C6/F6)/F6 -> #DIV/0! | H6: 0 | J6: =-1*LOG10(1-$B6*$C6/$F6/$D6)/LOG10(1+$C6/$F6)*$D6-$B6 -> #DIV/0!
A7: =Expense!$A67 -> 0 | B7: 0 | C7: 0.043 | D7: =Expense!$B67 -> 0 | E7: =B7*C7/F7 -> 0 | F7: 12 | G7: =-LOG10((1-(C7/F7*B7/D7)))/LOG10(1+C7/F7)/F7 -> #DIV/0! | H7: 0 | J7: =-1*LOG10(1-$B7*$C7/$F7/$D7)/LOG10(1+$C7/$F7)*$D7-$B7 -> #DIV/0!
A8: =Expense!$A68 -> 0 | B8: 0 | C8: 0.043 | D8: =Expense!$B68 -> 0 | E8: =B8*C8/F8 -> 0 | F8: 12 | G8: =-LOG10((1-(C8/F8*B8/D8)))/LOG10(1+C8/F8)/F8 -> #DIV/0! | H8: 0 | J8: =-1*LOG10(1-$B8*$C8/$F8/$D8)/LOG10(1+$C8/$F8)*$D8-$B8 -> #DIV/0!
A9: =Expense!$A69 -> 0 | B9: 0 | C9: 0.043 | D9: =Expense!$B69 -> 0 | E9: =B9*C9/F9 -> 0 | F9: 12 | G9: =-LOG10((1-(C9/F9*B9/D9)))/LOG10(1+C9/F9)/F9 -> #DIV/0! | H9: 0 | J9: =-1*LOG10(1-$B9*$C9/$F9/$D9)/LOG10(1+$C9/$F9)*$D9-$B9 -> #DIV/0!
A10: Total | B10: =SUM($B$3:$B$9) -> 0 | C10: =AVERAGE($C$3:$C$5) -> 0.049833333 | D10: =SUM($D$3:$D$9) -> 0 | G10: =MIN(G3:G9) -> #DIV/0! | H10: =SUM($H$3:$H$9) -> 0 | J10: =SUM($J$3:$J$9) -> #DIV/0!
Z14: For -0.68 years (-8.16 months) | AE14: For -0.68 years (-8.16 months) | AJ14: For -0.68 years (-8.16 months) | AO14: For -0.68 years (-8.16 months) | AT14: For -0.68 years (-8.16 months) | AY14: For -0.68 years (-8.16 months) | BD14: For -0.68 years (-8.16 months) | BI14: For -0.68 years (-8.16 months) | BN14: For -0.68 years (-8.16 months) | BS14: For -0.68 years (-8.16 months) | BX14: For -0.68 years (-8.16 months) | CC14: For -0.68 years (-8.16 months) | CH14: For -0.68 years (-8.16 months) | CM14: For -0.68 years (-8.16 months) | CR14: For -0.68 years (-8.16 months) | CW14: For -0.68 years (-8.16 months) | DB14: For -0.68 years (-8.16 months) | DG14: For -0.68 years (-8.16 months) | DL14: For -0.68 years (-8.16 months) | DQ14: For -0.68 years (-8.16 months) | DV14: For -0.68 years (-8.16 months) | EA14: For -0.68 years (-8.16 months) | EF14: For -0.68 years (-8.16 months) | EK14: For -0.68 years (-8.16 months) | EP14: For -0.68 years (-8.16 months) | EU14: For -0.68 years (-8.16 months) | EZ14: For -0.68 years (-8.16 months) | FE14: For -0.68 years (-8.16 months) | FJ14: For -0.68 years (-8.16 months) | FO14: For -0.68 years (-8.16 months) | FT14: For -0.68 years (-8.16 months) | FY14: For -0.68 years (-8.16 months) | GD14: For -0.68 years (-8.16 months) | GI14: For -0.68 years (-8.16 months) | GN14: For -0.68 years (-8.16 months) | GS14: For -0.68 years (-8.16 months) | GX14: For -0.68 years (-8.16 months) | HC14: For -0.68 years (-8.16 months) | HH14: For -0.68 years (-8.16 months) | HM14: For -0.68 years (-8.16 months) | HR14: For -0.68 years (-8.16 months) | HW14: For -0.68 years (-8.16 months) | IB14: For -0.68 years (-8.16 months) | IG14: For -0.68 years (-8.16 months) | IL14: For -0.68 years (-8.16 months) | IQ14: For -0.68 years (-8.16 months)
Z15: Name | AA15: Monthly Payment | AB15: Interest Paid | AC15: End Balance | AE15: Name | AF15: Monthly Payment | AG15: Interest Paid | AH15: End Balance | AJ15: Name | AK15: Monthly Payment | AL15: Interest Paid | AM15: End Balance | AO15: Name | AP15: Monthly Payment | AQ15: Interest Paid | AR15: End Balance | AT15: Name | AU15: Monthly Payment | AV15: Interest Paid | AW15: End Balance | AY15: Name | AZ15: Monthly Payment | BA15: Interest Paid | BB15: End Balance | BD15: Name | BE15: Monthly Payment | BF15: Interest Paid | BG15: End Balance | BI15: Name | BJ15: Monthly Payment | BK15: Interest Paid | BL15: End Balance | BN15: Name | BO15: Monthly Payment | BP15: Interest Paid | BQ15: End Balance | BS15: Name | BT15: Monthly Payment | BU15: Interest Paid | BV15: End Balance | BX15: Name | BY15: Monthly Payment | BZ15: Interest Paid | CA15: End Balance | CC15: Name | CD15: Monthly Payment | CE15: Interest Paid | CF15: End Balance | CH15: Name | CI15: Monthly Payment | CJ15: Interest Paid | CK15: End Balance | CM15: Name | CN15: Monthly Payment | CO15: Interest Paid | CP15: End Balance | CR15: Name | CS15: Monthly Payment | CT15: Interest Paid | CU15: End Balance | CW15: Name | CX15: Monthly Payment | CY15: Interest Paid | CZ15: End Balance | DB15: Name | DC15: Monthly Payment | DD15: Interest Paid | DE15: End Balance | DG15: Name | DH15: Monthly Payment | DI15: Interest Paid | DJ15: End Balance | DL15: Name | DM15: Monthly Payment | DN15: Interest Paid | DO15: End Balance | DQ15: Name | DR15: Monthly Payment | DS15: Interest Paid | DT15: End Balance | DV15: Name | DW15: Monthly Payment | DX15: Interest Paid | DY15: End Balance | EA15: Name | EB15: Monthly Payment | EC15: Interest Paid | ED15: End Balance | EF15: Name | EG15: Monthly Payment | EH15: Interest Paid | EI15: End Balance | EK15: Name | EL15: Monthly Payment | EM15: Interest Paid | EN15: End Balance | EP15: Name | EQ15: Monthly Payment | ER15: Interest Paid | ES15: End Balance | EU15: Name | EV15: Monthly Payment | EW15: Interest Paid | EX15: End Balance | EZ15: Name | FA15: Monthly Payment | FB15: Interest Paid | FC15: End Balance | FE15: Name | FF15: Monthly Payment | FG15: Interest Paid | FH15: End Balance | FJ15: Name | FK15: Monthly Payment | FL15: Interest Paid | FM15: End Balance | FO15: Name | FP15: Monthly Payment | FQ15: Interest Paid | FR15: End Balance | FT15: Name | FU15: Monthly Payment | FV15: Interest Paid | FW15: End Balance | FY15: Name | FZ15: Monthly Payment | GA15: Interest Paid | GB15: End Balance | GD15: Name | GE15: Monthly Payment | GF15: Interest Paid | GG15: End Balance | GI15: Name | GJ15: Monthly Payment | GK15: Interest Paid | GL15: End Balance | GN15: Name | GO15: Monthly Payment | GP15: Interest Paid | GQ15: End Balance | GS15: Name | GT15: Monthly Payment | GU15: Interest Paid | GV15: End Balance | GX15: Name | GY15: Monthly Payment | GZ15: Interest Paid | HA15: End Balance | HC15: Name | HD15: Monthly Payment | HE15: Interest Paid | HF15: End Balance | HH15: Name | HI15: Monthly Payment | HJ15: Interest Paid | HK15: End Balance | HM15: Name | HN15: Monthly Payment | HO15: Interest Paid | HP15: End Balance | HR15: Name | HS15: Monthly Payment | HT15: Interest Paid | HU15: End Balance | HW15: Name | HX15: Monthly Payment | HY15: Interest Paid | HZ15: End Balance | IB15: Name | IC15: Monthly Payment | ID15: Interest Paid | IE15: End Balance | IG15: Name | IH15: Monthly Payment | II15: Interest Paid | IJ15: End Balance | IL15: Name | IM15: Monthly Payment | IN15: Interest Paid | IO15: End Balance | IQ15: Name | IR15: Monthly Payment | IS15: Interest Paid | IT15: End Balance
Z16: Credit Card | AA16: -342.57 | AB16: -47.855166 | AC16: 2847.57 | AE16: Credit Card | AF16: -342.57 | AG16: -47.855166 | AH16: 2847.57 | AJ16: Credit Card | AK16: -342.57 | AL16: -47.855166 | AM16: 2847.57 | AO16: Credit Card | AP16: -342.57 | AQ16: -47.855166 | AR16: 2847.57 | AT16: Credit Card | AU16: -342.57 | AV16: -47.855166 | AW16: 2847.57 | AY16: Credit Card | AZ16: -342.57 | BA16: -47.855166 | BB16: 2847.57 | BD16: Credit Card | BE16: -342.57 | BF16: -47.855166 | BG16: 2847.57 | BI16: Credit Card | BJ16: -342.57 | BK16: -47.855166 | BL16: 2847.57 | BN16: Credit Card | BO16: -342.57 | BP16: -47.855166 | BQ16: 2847.57 | BS16: Credit Card | BT16: -342.57 | BU16: -47.855166 | BV16: 2847.57 | BX16: Credit Card | BY16: -342.57 | BZ16: -47.855166 | CA16: 2847.57 | CC16: Credit Card | CD16: -342.57 | CE16: -47.855166 | CF16: 2847.57 | CH16: Credit Card | CI16: -342.57 | CJ16: -47.855166 | CK16: 2847.57 | CM16: Credit Card | CN16: -342.57 | CO16: -47.855166 | CP16: 2847.57 | CR16: Credit Card | CS16: -342.57 | CT16: -47.855166 | CU16: 2847.57 | CW16: Credit Card | CX16: -342.57 | CY16: -47.855166 | CZ16: 2847.57 | DB16: Credit Card | DC16: -342.57 | DD16: -47.855166 | DE16: 2847.57 | DG16: Credit Card | DH16: -342.57 | DI16: -47.855166 | DJ16: 2847.57 | DL16: Credit Card | DM16: -342.57 | DN16: -47.855166 | DO16: 2847.57 | DQ16: Credit Card | DR16: -342.57 | DS16: -47.855166 | DT16: 2847.57 | DV16: Credit Card | DW16: -342.57 | DX16: -47.855166 | DY16: 2847.57 | EA16: Credit Card | EB16: -342.57 | EC16: -47.855166 | ED16: 2847.57 | EF16: Credit Card | EG16: -342.57 | EH16: -47.855166 | EI16: 2847.57 | EK16: Credit Card | EL16: -342.57 | EM16: -47.855166 | EN16: 2847.57 | EP16: Credit Card | EQ16: -342.57 | ER16: -47.855166 | ES16: 2847.57 | EU16: Credit Card | EV16: -342.57 | EW16: -47.855166 | EX16: 2847.57 | EZ16: Credit Card | FA16: -342.57 | FB16: -47.855166 | FC16: 2847.57 | FE16: Credit Card | FF16: -342.57 | FG16: -47.855166 | FH16: 2847.57 | FJ16: Credit Card | FK16: -342.57 | FL16: -47.855166 | FM16: 2847.57 | FO16: Credit Card | FP16: -342.57 | FQ16: -47.855166 | FR16: 2847.57 | FT16: Credit Card | FU16: -342.57 | FV16: -47.855166 | FW16: 2847.57 | FY16: Credit Card | FZ16: -342.57 | GA16: -47.855166 | GB16: 2847.57 | GD16: Credit Card | GE16: -342.57 | GF16: -47.855166 | GG16: 2847.57 | GI16: Credit Card | GJ16: -342.57 | GK16: -47.855166 | GL16: 2847.57 | GN16: Credit Card | GO16: -342.57 | GP16: -47.855166 | GQ16: 2847.57 | GS16: Credit Card | GT16: -342.57 | GU16: -47.855166 | GV16: 2847.57 | GX16: Credit Card | GY16: -342.57 | GZ16: -47.855166 | HA16: 2847.57 | HC16: Credit Card | HD16: -342.57 | HE16: -47.855166 | HF16: 2847.57 | HH16: Credit Card | HI16: -342.57 | HJ16: -47.855166 | HK16: 2847.57 | HM16: Credit Card | HN16: -342.57 | HO16: -47.855166 | HP16: 2847.57 | HR16: Credit Card | HS16: -342.57 | HT16: -47.855166 | HU16: 2847.57 | HW16: Credit Card | HX16: -342.57 | HY16: -47.855166 | HZ16: 2847.57 | IB16: Credit Card | IC16: -342.57 | ID16: -47.855166 | IE16: 2847.57 | IG16: Credit Card | IH16: -342.57 | II16: -47.855166 | IJ16: 2847.57 | IL16: Credit Card | IM16: -342.57 | IN16: -47.855166 | IO16: 2847.57 | IQ16: Credit Card | IR16: -342.57 | IS16: -47.855166 | IT16: 2847.57
Z17: Loan 1 | AA17: 162.57 | AB17: -677.83081 | AC17: 19982.94 | AE17: Loan 1 | AF17: 162.57 | AG17: -677.83081 | AH17: 19982.94 | AJ17: Loan 1 | AK17: 162.57 | AL17: -677.83081 | AM17: 19982.94 | AO17: Loan 1 | AP17: 162.57 | AQ17: -677.83081 | AR17: 19982.94 | AT17: Loan 1 | AU17: 162.57 | AV17: -677.83081 | AW17: 19982.94 | AY17: Loan 1 | AZ17: 162.57 | BA17: -677.83081 | BB17: 19982.94 | BD17: Loan 1 | BE17: 162.57 | BF17: -677.83081 | BG17: 19982.94 | BI17: Loan 1 | BJ17: 162.57 | BK17: -677.83081 | BL17: 19982.94 | BN17: Loan 1 | BO17: 162.57 | BP17: -677.83081 | BQ17: 19982.94 | BS17: Loan 1 | BT17: 162.57 | BU17: -677.83081 | BV17: 19982.94 | BX17: Loan 1 | BY17: 162.57 | BZ17: -677.83081 | CA17: 19982.94 | CC17: Loan 1 | CD17: 162.57 | CE17: -677.83081 | CF17: 19982.94 | CH17: Loan 1 | CI17: 162.57 | CJ17: -677.83081 | CK17: 19982.94 | CM17: Loan 1 | CN17: 162.57 | CO17: -677.83081 | CP17: 19982.94 | CR17: Loan 1 | CS17: 162.57 | CT17: -677.83081 | CU17: 19982.94 | CW17: Loan 1 | CX17: 162.57 | CY17: -677.83081 | CZ17: 19982.94 | DB17: Loan 1 | DC17: 162.57 | DD17: -677.83081 | DE17: 19982.94 | DG17: Loan 1 | DH17: 162.57 | DI17: -677.83081 | DJ17: 19982.94 | DL17: Loan 1 | DM17: 162.57 | DN17: -677.83081 | DO17: 19982.94 | DQ17: Loan 1 | DR17: 162.57 | DS17: -677.83081 | DT17: 19982.94 | DV17: Loan 1 | DW17: 162.57 | DX17: -677.83081 | DY17: 19982.94 | EA17: Loan 1 | EB17: 162.57 | EC17: -677.83081 | ED17: 19982.94 | EF17: Loan 1 | EG17: 162.57 | EH17: -677.83081 | EI17: 19982.94 | EK17: Loan 1 | EL17: 162.57 | EM17: -677.83081 | EN17: 19982.94 | EP17: Loan 1 | EQ17: 162.57 | ER17: -677.83081 | ES17: 19982.94 | EU17: Loan 1 | EV17: 162.57 | EW17: -677.83081 | EX17: 19982.94 | EZ17: Loan 1 | FA17: 162.57 | FB17: -677.83081 | FC17: 19982.94 | FE17: Loan 1 | FF17: 162.57 | FG17: -677.83081 | FH17: 19982.94 | FJ17: Loan 1 | FK17: 162.57 | FL17: -677.83081 | FM17: 19982.94 | FO17: Loan 1 | FP17: 162.57 | FQ17: -677.83081 | FR17: 19982.94 | FT17: Loan 1 | FU17: 162.57 | FV17: -677.83081 | FW17: 19982.94 | FY17: Loan 1 | FZ17: 162.57 | GA17: -677.83081 | GB17: 19982.94 | GD17: Loan 1 | GE17: 162.57 | GF17: -677.83081 | GG17: 19982.94 | GI17: Loan 1 | GJ17: 162.57 | GK17: -677.83081 | GL17: 19982.94 | GN17: Loan 1 | GO17: 162.57 | GP17: -677.83081 | GQ17: 19982.94 | GS17: Loan 1 | GT17: 162.57 | GU17: -677.83081 | GV17: 19982.94 | GX17: Loan 1 | GY17: 162.57 | GZ17: -677.83081 | HA17: 19982.94 | HC17: Loan 1 | HD17: 162.57 | HE17: -677.83081 | HF17: 19982.94 | HH17: Loan 1 | HI17: 162.57 | HJ17: -677.83081 | HK17: 19982.94 | HM17: Loan 1 | HN17: 162.57 | HO17: -677.83081 | HP17: 19982.94 | HR17: Loan 1 | HS17: 162.57 | HT17: -677.83081 | HU17: 19982.94 | HW17: Loan 1 | HX17: 162.57 | HY17: -677.83081 | HZ17: 19982.94 | IB17: Loan 1 | IC17: 162.57 | ID17: -677.83081 | IE17: 19982.94 | IG17: Loan 1 | IH17: 162.57 | II17: -677.83081 | IJ17: 19982.94 | IL17: Loan 1 | IM17: 162.57 | IN17: -677.83081 | IO17: 19982.94 | IQ17: Loan 1 | IR17: 162.57 | IS17: -677.83081 | IT17: 19982.94
Z18: Loan 2 | AA18: 180 | AB18: -567.37835 | AC18: 19299.37 | AE18: Loan 2 | AF18: 180 | AG18: -567.37835 | AH18: 19299.37 | AJ18: Loan 2 | AK18: 180 | AL18: -567.37835 | AM18: 19299.37 | AO18: Loan 2 | AP18: 180 | AQ18: -567.37835 | AR18: 19299.37 | AT18: Loan 2 | AU18: 180 | AV18: -567.37835 | AW18: 19299.37 | AY18: Loan 2 | AZ18: 180 | BA18: -567.37835 | BB18: 19299.37 | BD18: Loan 2 | BE18: 180 | BF18: -567.37835 | BG18: 19299.37 | BI18: Loan 2 | BJ18: 180 | BK18: -567.37835 | BL18: 19299.37 | BN18: Loan 2 | BO18: 180 | BP18: -567.37835 | BQ18: 19299.37 | BS18: Loan 2 | BT18: 180 | BU18: -567.37835 | BV18: 19299.37 | BX18: Loan 2 | BY18: 180 | BZ18: -567.37835 | CA18: 19299.37 | CC18: Loan 2 | CD18: 180 | CE18: -567.37835 | CF18: 19299.37 | CH18: Loan 2 | CI18: 180 | CJ18: -567.37835 | CK18: 19299.37 | CM18: Loan 2 | CN18: 180 | CO18: -567.37835 | CP18: 19299.37 | CR18: Loan 2 | CS18: 180 | CT18: -567.37835 | CU18: 19299.37 | CW18: Loan 2 | CX18: 180 | CY18: -567.37835 | CZ18: 19299.37 | DB18: Loan 2 | DC18: 180 | DD18: -567.37835 | DE18: 19299.37 | DG18: Loan 2 | DH18: 180 | DI18: -567.37835 | DJ18: 19299.37 | DL18: Loan 2 | DM18: 180 | DN18: -567.37835 | DO18: 19299.37 | DQ18: Loan 2 | DR18: 180 | DS18: -567.37835 | DT18: 19299.37 | DV18: Loan 2 | DW18: 180 | DX18: -567.37835 | DY18: 19299.37 | EA18: Loan 2 | EB18: 180 | EC18: -567.37835 | ED18: 19299.37 | EF18: Loan 2 | EG18: 180 | EH18: -567.37835 | EI18: 19299.37 | EK18: Loan 2 | EL18: 180 | EM18: -567.37835 | EN18: 19299.37 | EP18: Loan 2 | EQ18: 180 | ER18: -567.37835 | ES18: 19299.37 | EU18: Loan 2 | EV18: 180 | EW18: -567.37835 | EX18: 19299.37 | EZ18: Loan 2 | FA18: 180 | FB18: -567.37835 | FC18: 19299.37 | FE18: Loan 2 | FF18: 180 | FG18: -567.37835 | FH18: 19299.37 | FJ18: Loan 2 | FK18: 180 | FL18: -567.37835 | FM18: 19299.37 | FO18: Loan 2 | FP18: 180 | FQ18: -567.37835 | FR18: 19299.37 | FT18: Loan 2 | FU18: 180 | FV18: -567.37835 | FW18: 19299.37 | FY18: Loan 2 | FZ18: 180 | GA18: -567.37835 | GB18: 19299.37 | GD18: Loan 2 | GE18: 180 | GF18: -567.37835 | GG18: 19299.37 | GI18: Loan 2 | GJ18: 180 | GK18: -567.37835 | GL18: 19299.37 | GN18: Loan 2 | GO18: 180 | GP18: -567.37835 | GQ18: 19299.37 | GS18: Loan 2 | GT18: 180 | GU18: -567.37835 | GV18: 19299.37 | GX18: Loan 2 | GY18: 180 | GZ18: -567.37835 | HA18: 19299.37 | HC18: Loan 2 | HD18: 180 | HE18: -567.37835 | HF18: 19299.37 | HH18: Loan 2 | HI18: 180 | HJ18: -567.37835 | HK18: 19299.37 | HM18: Loan 2 | HN18: 180 | HO18: -567.37835 | HP18: 19299.37 | HR18: Loan 2 | HS18: 180 | HT18: -567.37835 | HU18: 19299.37 | HW18: Loan 2 | HX18: 180 | HY18: -567.37835 | HZ18: 19299.37 | IB18: Loan 2 | IC18: 180 | ID18: -567.37835 | IE18: 19299.37 | IG18: Loan 2 | IH18: 180 | II18: -567.37835 | IJ18: 19299.37 | IL18: Loan 2 | IM18: 180 | IN18: -567.37835 | IO18: 19299.37 | IQ18: Loan 2 | IR18: 180 | IS18: -567.37835 | IT18: 19299.37
Z19: Total: | AA19: =SUM(AA15:AA18) -> 0 | AB19: =SUM(AB15:AB18) -> -1293.0643 | AC19: =SUM(AC15:AC18) -> 42129.88 | AE19: Total: | AF19: =SUM(AF15:AF18) -> 0 | AG19: =SUM(AG15:AG18) -> -1293.0643 | AH19: =SUM(AH15:AH18) -> 42129.88 | AJ19: Total: | AK19: =SUM(AK15:AK18) -> 0 | AL19: =SUM(AL15:AL18) -> -1293.0643 | AM19: =SUM(AM15:AM18) -> 42129.88 | AO19: Total: | AP19: =SUM(AP15:AP18) -> 0 | AQ19: =SUM(AQ15:AQ18) -> -1293.0643 | AR19: =SUM(AR15:AR18) -> 42129.88 | AT19: Total: | AU19: =SUM(AU15:AU18) -> 0 | AV19: =SUM(AV15:AV18) -> -1293.0643 | AW19: =SUM(AW15:AW18) -> 42129.88 | AY19: Total: | AZ19: =SUM(AZ15:AZ18) -> 0 | BA19: =SUM(BA15:BA18) -> -1293.0643 | BB19: =SUM(BB15:BB18) -> 42129.88 | BD19: Total: | BE19: =SUM(BE15:BE18) -> 0 | BF19: =SUM(BF15:BF18) -> -1293.0643 | BG19: =SUM(BG15:BG18) -> 42129.88 | BI19: Total: | BJ19: =SUM(BJ15:BJ18) -> 0 | BK19: =SUM(BK15:BK18) -> -1293.0643 | BL19: =SUM(BL15:BL18) -> 42129.88 | BN19: Total: | BO19: =SUM(BO15:BO18) -> 0 | BP19: =SUM(BP15:BP18) -> -1293.0643 | BQ19: =SUM(BQ15:BQ18) -> 42129.88 | BS19: Total: | BT19: =SUM(BT15:BT18) -> 0 | BU19: =SUM(BU15:BU18) -> -1293.0643 | BV19: =SUM(BV15:BV18) -> 42129.88 | BX19: Total: | BY19: =SUM(BY15:BY18) -> 0 | BZ19: =SUM(BZ15:BZ18) -> -1293.0643 | CA19: =SUM(CA15:CA18) -> 42129.88 | CC19: Total: | CD19: =SUM(CD15:CD18) -> 0 | CE19: =SUM(CE15:CE18) -> -1293.0643 | CF19: =SUM(CF15:CF18) -> 42129.88 | CH19: Total: | CI19: =SUM(CI15:CI18) -> 0 | CJ19: =SUM(CJ15:CJ18) -> -1293.0643 | CK19: =SUM(CK15:CK18) -> 42129.88 | CM19: Total: | CN19: =SUM(CN15:CN18) -> 0 | CO19: =SUM(CO15:CO18) -> -1293.0643 | CP19: =SUM(CP15:CP18) -> 42129.88 | CR19: Total: | CS19: =SUM(CS15:CS18) -> 0 | CT19: =SUM(CT15:CT18) -> -1293.0643 | CU19: =SUM(CU15:CU18) -> 42129.88 | CW19: Total: | CX19: =SUM(CX15:CX18) -> 0 | CY19: =SUM(CY15:CY18) -> -1293.0643 | CZ19: =SUM(CZ15:CZ18) -> 42129.88 | DB19: Total: | DC19: =SUM(DC15:DC18) -> 0 | DD19: =SUM(DD15:DD18) -> -1293.0643 | DE19: =SUM(DE15:DE18) -> 42129.88 | DG19: Total: | DH19: =SUM(DH15:DH18) -> 0 | DI19: =SUM(DI15:DI18) -> -1293.0643 | DJ19: =SUM(DJ15:DJ18) -> 42129.88 | DL19: Total: | DM19: =SUM(DM15:DM18) -> 0 | DN19: =SUM(DN15:DN18) -> -1293.0643 | DO19: =SUM(DO15:DO18) -> 42129.88 | DQ19: Total: | DR19: =SUM(DR15:DR18) -> 0 | DS19: =SUM(DS15:DS18) -> -1293.0643 | DT19: =SUM(DT15:DT18) -> 42129.88 | DV19: Total: | DW19: =SUM(DW15:DW18) -> 0 | DX19: =SUM(DX15:DX18) -> -1293.0643 | DY19: =SUM(DY15:DY18) -> 42129.88 | EA19: Total: | EB19: =SUM(EB15:EB18) -> 0 | EC19: =SUM(EC15:EC18) -> -1293.0643 | ED19: =SUM(ED15:ED18) -> 42129.88 | EF19: Total: | EG19: =SUM(EG15:EG18) -> 0 | EH19: =SUM(EH15:EH18) -> -1293.0643 | EI19: =SUM(EI15:EI18) -> 42129.88 | EK19: Total: | EL19: =SUM(EL15:EL18) -> 0 | EM19: =SUM(EM15:EM18) -> -1293.0643 | EN19: =SUM(EN15:EN18) -> 42129.88 | EP19: Total: | EQ19: =SUM(EQ15:EQ18) -> 0 | ER19: =SUM(ER15:ER18) -> -1293.0643 | ES19: =SUM(ES15:ES18) -> 42129.88 | EU19: Total: | EV19: =SUM(EV15:EV18) -> 0 | EW19: =SUM(EW15:EW18) -> -1293.0643 | EX19: =SUM(EX15:EX18) -> 42129.88 | EZ19: Total: | FA19: =SUM(FA15:FA18) -> 0 | FB19: =SUM(FB15:FB18) -> -1293.0643 | FC19: =SUM(FC15:FC18) -> 42129.88 | FE19: Total: | FF19: =SUM(FF15:FF18) -> 0 | FG19: =SUM(FG15:FG18) -> -1293.0643 | FH19: =SUM(FH15:FH18) -> 42129.88 | FJ19: Total: | FK19: =SUM(FK15:FK18) -> 0 | FL19: =SUM(FL15:FL18) -> -1293.0643 | FM19: =SUM(FM15:FM18) -> 42129.88 | FO19: Total: | FP19: =SUM(FP15:FP18) -> 0 | FQ19: =SUM(FQ15:FQ18) -> -1293.0643 | FR19: =SUM(FR15:FR18) -> 42129.88 | FT19: Total: | FU19: =SUM(FU15:FU18) -> 0 | FV19: =SUM(FV15:FV18) -> -1293.0643 | FW19: =SUM(FW15:FW18) -> 42129.88 | FY19: Total: | FZ19: =SUM(FZ15:FZ18) -> 0 | GA19: =SUM(GA15:GA18) -> -1293.0643 | GB19: =SUM(GB15:GB18) -> 42129.88 | GD19: Total: | GE19: =SUM(GE15:GE18) -> 0 | GF19: =SUM(GF15:GF18) -> -1293.0643 | GG19: =SUM(GG15:GG18) -> 42129.88 | GI19: Total: | GJ19: =SUM(GJ15:GJ18) -> 0 | GK19: =SUM(GK15:GK18) -> -1293.0643 | GL19: =SUM(GL15:GL18) -> 42129.88 | GN19: Total: | GO19: =SUM(GO15:GO18) -> 0 | GP19: =SUM(GP15:GP18) -> -1293.0643 | GQ19: =SUM(GQ15:GQ18) -> 42129.88 | GS19: Total: | GT19: =SUM(GT15:GT18) -> 0 | GU19: =SUM(GU15:GU18) -> -1293.0643 | GV19: =SUM(GV15:GV18) -> 42129.88 | GX19: Total: | GY19: =SUM(GY15:GY18) -> 0 | GZ19: =SUM(GZ15:GZ18) -> -1293.0643 | HA19: =SUM(HA15:HA18) -> 42129.88 | HC19: Total: | HD19: =SUM(HD15:HD18) -> 0 | HE19: =SUM(HE15:HE18) -> -1293.0643 | HF19: =SUM(HF15:HF18) -> 42129.88 | HH19: Total: | HI19: =SUM(HI15:HI18) -> 0 | HJ19: =SUM(HJ15:HJ18) -> -1293.0643 | HK19: =SUM(HK15:HK18) -> 42129.88 | HM19: Total: | HN19: =SUM(HN15:HN18) -> 0 | HO19: =SUM(HO15:HO18) -> -1293.0643 | HP19: =SUM(HP15:HP18) -> 42129.88 | HR19: Total: | HS19: =SUM(HS15:HS18) -> 0 | HT19: =SUM(HT15:HT18) -> -1293.0643 | HU19: =SUM(HU15:HU18) -> 42129.88 | HW19: Total: | HX19: =SUM(HX15:HX18) -> 0 | HY19: =SUM(HY15:HY18) -> -1293.0643 | HZ19: =SUM(HZ15:HZ18) -> 42129.88 | IB19: Total: | IC19: =SUM(IC15:IC18) -> 0 | ID19: =SUM(ID15:ID18) -> -1293.0643 | IE19: =SUM(IE15:IE18) -> 42129.88 | IG19: Total: | IH19: =SUM(IH15:IH18) -> 0 | II19: =SUM(II15:II18) -> -1293.0643 | IJ19: =SUM(IJ15:IJ18) -> 42129.88 | IL19: Total: | IM19: =SUM(IM15:IM18) -> 0 | IN19: =SUM(IN15:IN18) -> -1293.0643 | IO19: =SUM(IO15:IO18) -> 42129.88 | IR19: =SUM(IR15:IR18) -> 0 | IS19: =SUM(IS15:IS18) -> -1293.0643 | IT19: =SUM(IT15:IT18) -> 42129.88
